BEGIN:VCALENDAR
VERSION:2.0
PRODID:icalendar-ruby
CALSCALE:GREGORIAN
METHOD:PUBLISH
BEGIN:VEVENT
DTSTAMP:20260419T134727Z
UID:8-11159466@cloverdalefpc.ca
DTSTART:20230518T023000Z
DTEND:20230518T033000Z
CLASS:PUBLIC
CREATED:20260419T032413
DESCRIPTION:Bible Study / Prayer Meeting
LAST-MODIFIED:20260419T032413
LOCATION:Church
SUMMARY:Bible Study / Prayer Meeting
URL;VALUE=URI:https://www.cloverdalefpc.ca/events/bible-study-prayer-meetin
 g/2023-05-17
END:VEVENT
END:VCALENDAR
