BEGIN:VCALENDAR
VERSION:2.0
PRODID:icalendar-ruby
CALSCALE:GREGORIAN
METHOD:PUBLISH
BEGIN:VEVENT
DTSTAMP:20260419T153127Z
UID:8-11164748@cloverdalefpc.ca
DTSTART:20230525T023000Z
DTEND:20230525T033000Z
CLASS:PUBLIC
CREATED:20260419T070725
DESCRIPTION:Bible Study / Prayer Meeting
LAST-MODIFIED:20260419T070725
LOCATION:Church
SUMMARY:Bible Study / Prayer Meeting
URL;VALUE=URI:https://www.cloverdalefpc.ca/events/bible-study-prayer-meetin
 g/2023-05-24
END:VEVENT
END:VCALENDAR
