BEGIN:VCALENDAR
VERSION:2.0
PRODID:icalendar-ruby
CALSCALE:GREGORIAN
METHOD:PUBLISH
BEGIN:VEVENT
DTSTAMP:20260421T235827Z
UID:8-11249367@cloverdalefpc.ca
DTSTART:20230810T023000Z
DTEND:20230810T033000Z
CLASS:PUBLIC
CREATED:20260421T162347
DESCRIPTION:Bible Study / Prayer Meeting
LAST-MODIFIED:20260421T162347
LOCATION:Church
SUMMARY:Bible Study / Prayer Meeting
URL;VALUE=URI:https://www.cloverdalefpc.ca/events/bible-study-prayer-meetin
 g/2023-08-09
END:VEVENT
END:VCALENDAR
