BEGIN:VCALENDAR
VERSION:2.0
PRODID:icalendar-ruby
CALSCALE:GREGORIAN
METHOD:PUBLISH
BEGIN:VEVENT
DTSTAMP:20260423T220649Z
UID:8-11307582@cloverdalefpc.ca
DTSTART:20240125T033000Z
DTEND:20240125T043000Z
CLASS:PUBLIC
CREATED:20260423T145845
DESCRIPTION:Bible Study / Prayer Meeting
LAST-MODIFIED:20260423T145845
LOCATION:Church
SUMMARY:Bible Study / Prayer Meeting
URL;VALUE=URI:https://www.cloverdalefpc.ca/events/bible-study-prayer-meetin
 g/2024-01-24
END:VEVENT
END:VCALENDAR
