BEGIN:VCALENDAR
VERSION:2.0
PRODID:icalendar-ruby
CALSCALE:GREGORIAN
METHOD:PUBLISH
BEGIN:VEVENT
DTSTAMP:20260424T031332Z
UID:8-11312877@cloverdalefpc.ca
DTSTART:20240215T033000Z
DTEND:20240215T043000Z
CLASS:PUBLIC
CREATED:20260423T175124
DESCRIPTION:Bible Study / Prayer Meeting
LAST-MODIFIED:20260423T175124
LOCATION:Church
SUMMARY:Bible Study / Prayer Meeting
URL;VALUE=URI:https://www.cloverdalefpc.ca/events/bible-study-prayer-meetin
 g/2024-02-14
END:VEVENT
END:VCALENDAR
