BEGIN:VCALENDAR
VERSION:2.0
PRODID:icalendar-ruby
CALSCALE:GREGORIAN
METHOD:PUBLISH
BEGIN:VEVENT
DTSTAMP:20260424T121249Z
UID:8-11318175@cloverdalefpc.ca
DTSTART:20240328T023000Z
DTEND:20240328T033000Z
CLASS:PUBLIC
CREATED:20260424T031925
DESCRIPTION:Bible Study / Prayer Meeting
LAST-MODIFIED:20260424T031925
LOCATION:Church
SUMMARY:Bible Study / Prayer Meeting
URL;VALUE=URI:https://www.cloverdalefpc.ca/events/bible-study-prayer-meetin
 g/2024-03-27
END:VEVENT
END:VCALENDAR
