BEGIN:VCALENDAR
VERSION:2.0
PRODID:icalendar-ruby
CALSCALE:GREGORIAN
METHOD:PUBLISH
BEGIN:VEVENT
DTSTAMP:20260424T152316Z
UID:8-11323469@cloverdalefpc.ca
DTSTART:20240411T023000Z
DTEND:20240411T033000Z
CLASS:PUBLIC
CREATED:20260424T061415
DESCRIPTION:Bible Study / Prayer Meeting
LAST-MODIFIED:20260424T061415
LOCATION:Church
SUMMARY:Bible Study / Prayer Meeting
URL;VALUE=URI:https://www.cloverdalefpc.ca/events/bible-study-prayer-meetin
 g/2024-04-10
END:VEVENT
END:VCALENDAR
