BEGIN:VCALENDAR
VERSION:2.0
PRODID:icalendar-ruby
CALSCALE:GREGORIAN
METHOD:PUBLISH
BEGIN:VEVENT
DTSTAMP:20260424T200506Z
UID:8-11334056@cloverdalefpc.ca
DTSTART:20240502T023000Z
DTEND:20240502T033000Z
CLASS:PUBLIC
CREATED:20260424T115122
DESCRIPTION:Bible Study / Prayer Meeting
LAST-MODIFIED:20260424T115122
LOCATION:Church
SUMMARY:Bible Study / Prayer Meeting
URL;VALUE=URI:https://www.cloverdalefpc.ca/events/bible-study-prayer-meetin
 g/2024-05-01
END:VEVENT
END:VCALENDAR
