BEGIN:VCALENDAR
VERSION:2.0
PRODID:icalendar-ruby
CALSCALE:GREGORIAN
METHOD:PUBLISH
BEGIN:VEVENT
DTSTAMP:20260425T000823Z
UID:8-11339350@cloverdalefpc.ca
DTSTART:20240516T023000Z
DTEND:20240516T033000Z
CLASS:PUBLIC
CREATED:20260424T143926
DESCRIPTION:Bible Study / Prayer Meeting
LAST-MODIFIED:20260424T143926
LOCATION:Church
SUMMARY:Bible Study / Prayer Meeting
URL;VALUE=URI:https://www.cloverdalefpc.ca/events/bible-study-prayer-meetin
 g/2024-05-15
END:VEVENT
END:VCALENDAR
