BEGIN:VCALENDAR
VERSION:2.0
PRODID:icalendar-ruby
CALSCALE:GREGORIAN
METHOD:PUBLISH
BEGIN:VEVENT
DTSTAMP:20260425T121347Z
UID:8-11349941@cloverdalefpc.ca
DTSTART:20240704T023000Z
DTEND:20240704T033000Z
CLASS:PUBLIC
CREATED:20260425T031752
DESCRIPTION:Bible Study / Prayer Meeting
LAST-MODIFIED:20260425T031752
LOCATION:Church
SUMMARY:Bible Study / Prayer Meeting
URL;VALUE=URI:https://www.cloverdalefpc.ca/events/bible-study-prayer-meetin
 g/2024-07-03
END:VEVENT
END:VCALENDAR
