BEGIN:VCALENDAR
VERSION:2.0
PRODID:icalendar-ruby
CALSCALE:GREGORIAN
METHOD:PUBLISH
BEGIN:VEVENT
DTSTAMP:20260421T091736Z
UID:8-11217799@cloverdalefpc.ca
DTSTART:20261015T023000Z
DTEND:20261015T033000Z
CLASS:PUBLIC
CREATED:20260420T161120
DESCRIPTION:Bible Study / Prayer Meeting
LAST-MODIFIED:20260420T161120
LOCATION:Church
SUMMARY:Bible Study / Prayer Meeting
URL;VALUE=URI:https://www.cloverdalefpc.ca/events/bible-study-prayer-meetin
 g/2026-10-14
END:VEVENT
END:VCALENDAR
