BEGIN:VCALENDAR
VERSION:2.0
PRODID:icalendar-ruby
CALSCALE:GREGORIAN
METHOD:PUBLISH
BEGIN:VEVENT
DTSTAMP:20260421T110146Z
UID:8-11223089@cloverdalefpc.ca
DTSTART:20261022T023000Z
DTEND:20261022T033000Z
CLASS:PUBLIC
CREATED:20260421T031703
DESCRIPTION:Bible Study / Prayer Meeting
LAST-MODIFIED:20260421T031703
LOCATION:Church
SUMMARY:Bible Study / Prayer Meeting
URL;VALUE=URI:https://www.cloverdalefpc.ca/events/bible-study-prayer-meetin
 g/2026-10-21
END:VEVENT
END:VCALENDAR
