BEGIN:VCALENDAR
VERSION:2.0
PRODID:icalendar-ruby
CALSCALE:GREGORIAN
METHOD:PUBLISH
BEGIN:VEVENT
DTSTAMP:20260422T223608Z
UID:84-11277430@cloverdalefpc.ca
DTSTART:20261004T173000Z
DTEND:20261004T183000Z
CLASS:PUBLIC
CREATED:20260422T145817
DESCRIPTION:Morning Worship Service
LAST-MODIFIED:20260422T145817
LOCATION:Church sanctuary
SUMMARY:Morning Worship Service
URL;VALUE=URI:https://www.cloverdalefpc.ca/events/morning-worship-service/2
 026-10-04
END:VEVENT
END:VCALENDAR
