BEGIN:VCALENDAR
VERSION:2.0
PRODID:icalendar-ruby
CALSCALE:GREGORIAN
METHOD:PUBLISH
BEGIN:VEVENT
DTSTAMP:20260423T044419Z
UID:84-11282722@cloverdalefpc.ca
DTSTART:20261025T173000Z
DTEND:20261025T183000Z
CLASS:PUBLIC
CREATED:20260422T174949
DESCRIPTION:Morning Worship Service
LAST-MODIFIED:20260422T174949
LOCATION:Church sanctuary
SUMMARY:Morning Worship Service
URL;VALUE=URI:https://www.cloverdalefpc.ca/events/morning-worship-service/2
 026-10-25
END:VEVENT
END:VCALENDAR
