BEGIN:VCALENDAR
VERSION:2.0
PRODID:icalendar-ruby
CALSCALE:GREGORIAN
METHOD:PUBLISH
BEGIN:VEVENT
DTSTAMP:20260422T094604Z
UID:83-11250533@cloverdalefpc.ca
DTSTART:20261022T023000Z
DTEND:20261022T033000Z
CLASS:PUBLIC
CREATED:20260421T162349
DESCRIPTION:Prayer Meeting
LAST-MODIFIED:20260421T162349
LOCATION:Church Basement
SUMMARY:Prayer Meeting
URL;VALUE=URI:https://www.cloverdalefpc.ca/events/prayer-meeting/2026-10-21
END:VEVENT
END:VCALENDAR
