BEGIN:VCALENDAR
VERSION:2.0
PRODID:icalendar-ruby
CALSCALE:GREGORIAN
METHOD:PUBLISH
BEGIN:VEVENT
DTSTAMP:20260422T113642Z
UID:83-11255823@cloverdalefpc.ca
DTSTART:20261029T023000Z
DTEND:20261029T033000Z
CLASS:PUBLIC
CREATED:20260422T031908
DESCRIPTION:Prayer Meeting
LAST-MODIFIED:20260422T031908
LOCATION:Church Basement
SUMMARY:Prayer Meeting
URL;VALUE=URI:https://www.cloverdalefpc.ca/events/prayer-meeting/2026-10-28
END:VEVENT
END:VCALENDAR
