BEGIN:VCALENDAR
VERSION:2.0
PRODID:icalendar-ruby
CALSCALE:GREGORIAN
METHOD:PUBLISH
BEGIN:VEVENT
DTSTAMP:20260422T175200Z
UID:85-11267307@cloverdalefpc.ca
DTSTART:20261005T010000Z
DTEND:20261005T020000Z
CLASS:PUBLIC
CREATED:20260422T090847
DESCRIPTION:Sunday Evening Preaching Service
LAST-MODIFIED:20260422T090847
LOCATION:Church Sanctuary
SUMMARY:Sunday Evening Preaching Service
URL;VALUE=URI:https://www.cloverdalefpc.ca/events/sunday-evening-preaching-
 service/2026-10-04
END:VEVENT
END:VCALENDAR
