BEGIN:VCALENDAR
VERSION:2.0
PRODID:icalendar-ruby
CALSCALE:GREGORIAN
METHOD:PUBLISH
BEGIN:VEVENT
DTSTAMP:20260422T234527Z
UID:85-11277888@cloverdalefpc.ca
DTSTART:20261026T010000Z
DTEND:20261026T020000Z
CLASS:PUBLIC
CREATED:20260422T145818
DESCRIPTION:Sunday Evening Preaching Service
LAST-MODIFIED:20260422T145818
LOCATION:Church Sanctuary
SUMMARY:Sunday Evening Preaching Service
URL;VALUE=URI:https://www.cloverdalefpc.ca/events/sunday-evening-preaching-
 service/2026-10-25
END:VEVENT
END:VCALENDAR
