BEGIN:VCALENDAR
VERSION:2.0
PRODID:icalendar-ruby
CALSCALE:GREGORIAN
METHOD:PUBLISH
BEGIN:VEVENT
DTSTAMP:20260423T014623Z
UID:85-11283178@cloverdalefpc.ca
DTSTART:20261102T020000Z
DTEND:20261102T030000Z
CLASS:PUBLIC
CREATED:20260422T174950
DESCRIPTION:Sunday Evening Preaching Service
LAST-MODIFIED:20260422T174950
LOCATION:Church Sanctuary
SUMMARY:Sunday Evening Preaching Service
URL;VALUE=URI:https://www.cloverdalefpc.ca/events/sunday-evening-preaching-
 service/2026-11-01
END:VEVENT
END:VCALENDAR
