BEGIN:VCALENDAR
VERSION:2.0
PRODID:icalendar-ruby
CALSCALE:GREGORIAN
METHOD:PUBLISH
BEGIN:VEVENT
DTSTAMP:20260421T123804Z
UID:7-11222434@cloverdalefpc.ca
DTSTART:20240923T010000Z
DTEND:20240923T020000Z
CLASS:PUBLIC
CREATED:20260421T031702
DESCRIPTION:Sunday Evening Service
LAST-MODIFIED:20260421T031702
LOCATION:
SUMMARY:Sunday Evening Service
URL;VALUE=URI:https://www.cloverdalefpc.ca/events/sunday-evening-service/20
 24-09-22
END:VEVENT
END:VCALENDAR
