BEGIN:VCALENDAR
VERSION:2.0
PRODID:icalendar-ruby
CALSCALE:GREGORIAN
METHOD:PUBLISH
BEGIN:VEVENT
DTSTAMP:20260421T141309Z
UID:7-11227724@cloverdalefpc.ca
DTSTART:20240930T010000Z
DTEND:20240930T020000Z
CLASS:PUBLIC
CREATED:20260421T055311
DESCRIPTION:Sunday Evening Service
LAST-MODIFIED:20260421T055311
LOCATION:
SUMMARY:Sunday Evening Service
URL;VALUE=URI:https://www.cloverdalefpc.ca/events/sunday-evening-service/20
 24-09-29
END:VEVENT
END:VCALENDAR
