BEGIN:VCALENDAR
VERSION:2.0
PRODID:icalendar-ruby
CALSCALE:GREGORIAN
METHOD:PUBLISH
BEGIN:VEVENT
DTSTAMP:20260421T161625Z
UID:7-11233014@cloverdalefpc.ca
DTSTART:20241007T010000Z
DTEND:20241007T020000Z
CLASS:PUBLIC
CREATED:20260421T082921
DESCRIPTION:Sunday Evening Service
LAST-MODIFIED:20260421T082921
LOCATION:
SUMMARY:Sunday Evening Service
URL;VALUE=URI:https://www.cloverdalefpc.ca/events/sunday-evening-service/20
 24-10-06
END:VEVENT
END:VCALENDAR
