BEGIN:VCALENDAR
VERSION:2.0
PRODID:icalendar-ruby
CALSCALE:GREGORIAN
METHOD:PUBLISH
BEGIN:VEVENT
DTSTAMP:20260421T200827Z
UID:7-11238305@cloverdalefpc.ca
DTSTART:20241021T010000Z
DTEND:20241021T020000Z
CLASS:PUBLIC
CREATED:20260421T110907
DESCRIPTION:Sunday Evening Service
LAST-MODIFIED:20260421T110907
LOCATION:
SUMMARY:Sunday Evening Service
URL;VALUE=URI:https://www.cloverdalefpc.ca/events/sunday-evening-service/20
 24-10-20
END:VEVENT
END:VCALENDAR
