BEGIN:VCALENDAR
VERSION:2.0
PRODID:icalendar-ruby
CALSCALE:GREGORIAN
METHOD:PUBLISH
BEGIN:VEVENT
DTSTAMP:20260423T195935Z
UID:7-11301807@cloverdalefpc.ca
DTSTART:20250414T010000Z
DTEND:20250414T020000Z
CLASS:PUBLIC
CREATED:20260423T120421
DESCRIPTION:Sunday Evening Service
LAST-MODIFIED:20260423T120421
LOCATION:
SUMMARY:Sunday Evening Service
URL;VALUE=URI:https://www.cloverdalefpc.ca/events/sunday-evening-service/20
 25-04-13
END:VEVENT
END:VCALENDAR
