BEGIN:VCALENDAR
VERSION:2.0
PRODID:icalendar-ruby
CALSCALE:GREGORIAN
METHOD:PUBLISH
BEGIN:VEVENT
DTSTAMP:20260421T030717Z
UID:7-11217253@cloverdalefpc.ca
DTSTART:20261019T010000Z
DTEND:20261019T020000Z
CLASS:PUBLIC
CREATED:20260420T161119
DESCRIPTION:Sunday Evening Service
LAST-MODIFIED:20260420T161119
LOCATION:
SUMMARY:Sunday Evening Service
URL;VALUE=URI:https://www.cloverdalefpc.ca/events/sunday-evening-service/20
 26-10-18
END:VEVENT
END:VCALENDAR
