BEGIN:VCALENDAR
VERSION:2.0
PRODID:icalendar-ruby
CALSCALE:GREGORIAN
METHOD:PUBLISH
BEGIN:VEVENT
DTSTAMP:20260419T120110Z
UID:6-11158035@cloverdalefpc.ca
DTSTART:20161120T183000Z
DTEND:20161120T193000Z
CLASS:PUBLIC
CREATED:20260419T032410
DESCRIPTION:Sunday Morning Service
LAST-MODIFIED:20260419T032410
LOCATION:
SUMMARY:Sunday Morning Service
URL;VALUE=URI:https://www.cloverdalefpc.ca/events/sunday-morning-service/20
 16-11-20
END:VEVENT
END:VCALENDAR
