BEGIN:VCALENDAR
VERSION:2.0
PRODID:icalendar-ruby
CALSCALE:GREGORIAN
METHOD:PUBLISH
BEGIN:VEVENT
DTSTAMP:20260419T171858Z
UID:6-11163319@cloverdalefpc.ca
DTSTART:20161211T183000Z
DTEND:20161211T193000Z
CLASS:PUBLIC
CREATED:20260419T070722
DESCRIPTION:Sunday Morning Service
LAST-MODIFIED:20260419T070722
LOCATION:
SUMMARY:Sunday Morning Service
URL;VALUE=URI:https://www.cloverdalefpc.ca/events/sunday-morning-service/20
 16-12-11
END:VEVENT
END:VCALENDAR
