BEGIN:VCALENDAR
VERSION:2.0
PRODID:icalendar-ruby
CALSCALE:GREGORIAN
METHOD:PUBLISH
BEGIN:VEVENT
DTSTAMP:20260419T191005Z
UID:6-11168602@cloverdalefpc.ca
DTSTART:20161218T183000Z
DTEND:20161218T193000Z
CLASS:PUBLIC
CREATED:20260419T104901
DESCRIPTION:Sunday Morning Service
LAST-MODIFIED:20260419T104901
LOCATION:
SUMMARY:Sunday Morning Service
URL;VALUE=URI:https://www.cloverdalefpc.ca/events/sunday-morning-service/20
 16-12-18
END:VEVENT
END:VCALENDAR
