BEGIN:VCALENDAR
VERSION:2.0
PRODID:icalendar-ruby
CALSCALE:GREGORIAN
METHOD:PUBLISH
BEGIN:VEVENT
DTSTAMP:20260419T211120Z
UID:6-11168603@cloverdalefpc.ca
DTSTART:20161225T183000Z
DTEND:20161225T193000Z
CLASS:PUBLIC
CREATED:20260419T104901
DESCRIPTION:Sunday Morning Service
LAST-MODIFIED:20260419T104901
LOCATION:
SUMMARY:Sunday Morning Service
URL;VALUE=URI:https://www.cloverdalefpc.ca/events/sunday-morning-service/20
 16-12-25
END:VEVENT
END:VCALENDAR
