BEGIN:VCALENDAR
VERSION:2.0
PRODID:icalendar-ruby
CALSCALE:GREGORIAN
METHOD:PUBLISH
BEGIN:VEVENT
DTSTAMP:20260419T231235Z
UID:6-11173888@cloverdalefpc.ca
DTSTART:20170101T183000Z
DTEND:20170101T193000Z
CLASS:PUBLIC
CREATED:20260419T143148
DESCRIPTION:Sunday Morning Service
LAST-MODIFIED:20260419T143148
LOCATION:
SUMMARY:Sunday Morning Service
URL;VALUE=URI:https://www.cloverdalefpc.ca/events/sunday-morning-service/20
 17-01-01
END:VEVENT
END:VCALENDAR
