BEGIN:VCALENDAR
VERSION:2.0
PRODID:icalendar-ruby
CALSCALE:GREGORIAN
METHOD:PUBLISH
BEGIN:VEVENT
DTSTAMP:20260420T013802Z
UID:6-11179175@cloverdalefpc.ca
DTSTART:20170108T183000Z
DTEND:20170108T193000Z
CLASS:PUBLIC
CREATED:20260419T181254
DESCRIPTION:Sunday Morning Service
LAST-MODIFIED:20260419T181254
LOCATION:
SUMMARY:Sunday Morning Service
URL;VALUE=URI:https://www.cloverdalefpc.ca/events/sunday-morning-service/20
 17-01-08
END:VEVENT
END:VCALENDAR
