BEGIN:VCALENDAR
VERSION:2.0
PRODID:icalendar-ruby
CALSCALE:GREGORIAN
METHOD:PUBLISH
BEGIN:VEVENT
DTSTAMP:20260420T075410Z
UID:6-11184464@cloverdalefpc.ca
DTSTART:20170129T183000Z
DTEND:20170129T193000Z
CLASS:PUBLIC
CREATED:20260419T214952
DESCRIPTION:Sunday Morning Service
LAST-MODIFIED:20260419T214952
LOCATION:
SUMMARY:Sunday Morning Service
URL;VALUE=URI:https://www.cloverdalefpc.ca/events/sunday-morning-service/20
 17-01-29
END:VEVENT
END:VCALENDAR
