BEGIN:VCALENDAR
VERSION:2.0
PRODID:icalendar-ruby
CALSCALE:GREGORIAN
METHOD:PUBLISH
BEGIN:VEVENT
DTSTAMP:20260420T120604Z
UID:6-11189755@cloverdalefpc.ca
DTSTART:20170212T183000Z
DTEND:20170212T193000Z
CLASS:PUBLIC
CREATED:20260420T031647
DESCRIPTION:Sunday Morning Service
LAST-MODIFIED:20260420T031647
LOCATION:
SUMMARY:Sunday Morning Service
URL;VALUE=URI:https://www.cloverdalefpc.ca/events/sunday-morning-service/20
 17-02-12
END:VEVENT
END:VCALENDAR
