BEGIN:VCALENDAR
VERSION:2.0
PRODID:icalendar-ruby
CALSCALE:GREGORIAN
METHOD:PUBLISH
BEGIN:VEVENT
DTSTAMP:20260420T134453Z
UID:6-11195045@cloverdalefpc.ca
DTSTART:20170219T183000Z
DTEND:20170219T193000Z
CLASS:PUBLIC
CREATED:20260420T055206
DESCRIPTION:Sunday Morning Service
LAST-MODIFIED:20260420T055206
LOCATION:
SUMMARY:Sunday Morning Service
URL;VALUE=URI:https://www.cloverdalefpc.ca/events/sunday-morning-service/20
 17-02-19
END:VEVENT
END:VCALENDAR
