BEGIN:VCALENDAR
VERSION:2.0
PRODID:icalendar-ruby
CALSCALE:GREGORIAN
METHOD:PUBLISH
BEGIN:VEVENT
DTSTAMP:20260420T155024Z
UID:6-11200335@cloverdalefpc.ca
DTSTART:20170226T183000Z
DTEND:20170226T193000Z
CLASS:PUBLIC
CREATED:20260420T082611
DESCRIPTION:Sunday Morning Service
LAST-MODIFIED:20260420T082611
LOCATION:
SUMMARY:Sunday Morning Service
URL;VALUE=URI:https://www.cloverdalefpc.ca/events/sunday-morning-service/20
 17-02-26
END:VEVENT
END:VCALENDAR
