BEGIN:VCALENDAR
VERSION:2.0
PRODID:icalendar-ruby
CALSCALE:GREGORIAN
METHOD:PUBLISH
BEGIN:VEVENT
DTSTAMP:20260420T192108Z
UID:6-11205626@cloverdalefpc.ca
DTSTART:20170312T173000Z
DTEND:20170312T183000Z
CLASS:PUBLIC
CREATED:20260420T110025
DESCRIPTION:Sunday Morning Service
LAST-MODIFIED:20260420T110025
LOCATION:
SUMMARY:Sunday Morning Service
URL;VALUE=URI:https://www.cloverdalefpc.ca/events/sunday-morning-service/20
 17-03-12
END:VEVENT
END:VCALENDAR
