BEGIN:VCALENDAR
VERSION:2.0
PRODID:icalendar-ruby
CALSCALE:GREGORIAN
METHOD:PUBLISH
BEGIN:VEVENT
DTSTAMP:20260420T213416Z
UID:6-11210916@cloverdalefpc.ca
DTSTART:20170319T173000Z
DTEND:20170319T183000Z
CLASS:PUBLIC
CREATED:20260420T133605
DESCRIPTION:Sunday Morning Service
LAST-MODIFIED:20260420T133605
LOCATION:
SUMMARY:Sunday Morning Service
URL;VALUE=URI:https://www.cloverdalefpc.ca/events/sunday-morning-service/20
 17-03-19
END:VEVENT
END:VCALENDAR
