BEGIN:VCALENDAR
VERSION:2.0
PRODID:icalendar-ruby
CALSCALE:GREGORIAN
METHOD:PUBLISH
BEGIN:VEVENT
DTSTAMP:20260420T233657Z
UID:6-11216206@cloverdalefpc.ca
DTSTART:20170326T173000Z
DTEND:20170326T183000Z
CLASS:PUBLIC
CREATED:20260420T161117
DESCRIPTION:Sunday Morning Service
LAST-MODIFIED:20260420T161117
LOCATION:
SUMMARY:Sunday Morning Service
URL;VALUE=URI:https://www.cloverdalefpc.ca/events/sunday-morning-service/20
 17-03-26
END:VEVENT
END:VCALENDAR
