BEGIN:VCALENDAR
VERSION:2.0
PRODID:icalendar-ruby
CALSCALE:GREGORIAN
METHOD:PUBLISH
BEGIN:VEVENT
DTSTAMP:20260421T014002Z
UID:6-11216207@cloverdalefpc.ca
DTSTART:20170402T173000Z
DTEND:20170402T183000Z
CLASS:PUBLIC
CREATED:20260420T161117
DESCRIPTION:Sunday Morning Service
LAST-MODIFIED:20260420T161117
LOCATION:
SUMMARY:Sunday Morning Service
URL;VALUE=URI:https://www.cloverdalefpc.ca/events/sunday-morning-service/20
 17-04-02
END:VEVENT
END:VCALENDAR
