BEGIN:VCALENDAR
VERSION:2.0
PRODID:icalendar-ruby
CALSCALE:GREGORIAN
METHOD:PUBLISH
BEGIN:VEVENT
DTSTAMP:20260421T110058Z
UID:6-11221501@cloverdalefpc.ca
DTSTART:20170507T173000Z
DTEND:20170507T183000Z
CLASS:PUBLIC
CREATED:20260421T031701
DESCRIPTION:Sunday Morning Service
LAST-MODIFIED:20260421T031701
LOCATION:
SUMMARY:Sunday Morning Service
URL;VALUE=URI:https://www.cloverdalefpc.ca/events/sunday-morning-service/20
 17-05-07
END:VEVENT
END:VCALENDAR
