BEGIN:VCALENDAR
VERSION:2.0
PRODID:icalendar-ruby
CALSCALE:GREGORIAN
METHOD:PUBLISH
BEGIN:VEVENT
DTSTAMP:20260421T125540Z
UID:6-11226791@cloverdalefpc.ca
DTSTART:20170514T173000Z
DTEND:20170514T183000Z
CLASS:PUBLIC
CREATED:20260421T055309
DESCRIPTION:Sunday Morning Service
LAST-MODIFIED:20260421T055309
LOCATION:
SUMMARY:Sunday Morning Service
URL;VALUE=URI:https://www.cloverdalefpc.ca/events/sunday-morning-service/20
 17-05-14
END:VEVENT
END:VCALENDAR
