BEGIN:VCALENDAR
VERSION:2.0
PRODID:icalendar-ruby
CALSCALE:GREGORIAN
METHOD:PUBLISH
BEGIN:VEVENT
DTSTAMP:20260421T182808Z
UID:6-11237372@cloverdalefpc.ca
DTSTART:20170604T173000Z
DTEND:20170604T183000Z
CLASS:PUBLIC
CREATED:20260421T110905
DESCRIPTION:Sunday Morning Service
LAST-MODIFIED:20260421T110905
LOCATION:
SUMMARY:Sunday Morning Service
URL;VALUE=URI:https://www.cloverdalefpc.ca/events/sunday-morning-service/20
 17-06-04
END:VEVENT
END:VCALENDAR
