BEGIN:VCALENDAR
VERSION:2.0
PRODID:icalendar-ruby
CALSCALE:GREGORIAN
METHOD:PUBLISH
BEGIN:VEVENT
DTSTAMP:20260421T221510Z
UID:6-11242663@cloverdalefpc.ca
DTSTART:20170618T173000Z
DTEND:20170618T183000Z
CLASS:PUBLIC
CREATED:20260421T134510
DESCRIPTION:Sunday Morning Service
LAST-MODIFIED:20260421T134510
LOCATION:
SUMMARY:Sunday Morning Service
URL;VALUE=URI:https://www.cloverdalefpc.ca/events/sunday-morning-service/20
 17-06-18
END:VEVENT
END:VCALENDAR
