BEGIN:VCALENDAR
VERSION:2.0
PRODID:icalendar-ruby
CALSCALE:GREGORIAN
METHOD:PUBLISH
BEGIN:VEVENT
DTSTAMP:20260421T235623Z
UID:6-11247953@cloverdalefpc.ca
DTSTART:20170625T173000Z
DTEND:20170625T183000Z
CLASS:PUBLIC
CREATED:20260421T162345
DESCRIPTION:Sunday Morning Service
LAST-MODIFIED:20260421T162345
LOCATION:
SUMMARY:Sunday Morning Service
URL;VALUE=URI:https://www.cloverdalefpc.ca/events/sunday-morning-service/20
 17-06-25
END:VEVENT
END:VCALENDAR
