BEGIN:VCALENDAR
VERSION:2.0
PRODID:icalendar-ruby
CALSCALE:GREGORIAN
METHOD:PUBLISH
BEGIN:VEVENT
DTSTAMP:20260422T064333Z
UID:6-11247957@cloverdalefpc.ca
DTSTART:20170723T173000Z
DTEND:20170723T183000Z
CLASS:PUBLIC
CREATED:20260421T162345
DESCRIPTION:Sunday Morning Service
LAST-MODIFIED:20260421T162345
LOCATION:
SUMMARY:Sunday Morning Service
URL;VALUE=URI:https://www.cloverdalefpc.ca/events/sunday-morning-service/20
 17-07-23
END:VEVENT
END:VCALENDAR
