BEGIN:VCALENDAR
VERSION:2.0
PRODID:icalendar-ruby
CALSCALE:GREGORIAN
METHOD:PUBLISH
BEGIN:VEVENT
DTSTAMP:20260422T082815Z
UID:6-11247958@cloverdalefpc.ca
DTSTART:20170730T173000Z
DTEND:20170730T183000Z
CLASS:PUBLIC
CREATED:20260421T162345
DESCRIPTION:Sunday Morning Service
LAST-MODIFIED:20260421T162345
LOCATION:
SUMMARY:Sunday Morning Service
URL;VALUE=URI:https://www.cloverdalefpc.ca/events/sunday-morning-service/20
 17-07-30
END:VEVENT
END:VCALENDAR
