BEGIN:VCALENDAR
VERSION:2.0
PRODID:icalendar-ruby
CALSCALE:GREGORIAN
METHOD:PUBLISH
BEGIN:VEVENT
DTSTAMP:20260422T180926Z
UID:6-11263830@cloverdalefpc.ca
DTSTART:20170903T173000Z
DTEND:20170903T183000Z
CLASS:PUBLIC
CREATED:20260422T090841
DESCRIPTION:Sunday Morning Service
LAST-MODIFIED:20260422T090841
LOCATION:
SUMMARY:Sunday Morning Service
URL;VALUE=URI:https://www.cloverdalefpc.ca/events/sunday-morning-service/20
 17-09-03
END:VEVENT
END:VCALENDAR
