BEGIN:VCALENDAR
VERSION:2.0
PRODID:icalendar-ruby
CALSCALE:GREGORIAN
METHOD:PUBLISH
BEGIN:VEVENT
DTSTAMP:20260422T195537Z
UID:6-11269120@cloverdalefpc.ca
DTSTART:20170910T173000Z
DTEND:20170910T183000Z
CLASS:PUBLIC
CREATED:20260422T120312
DESCRIPTION:Sunday Morning Service
LAST-MODIFIED:20260422T120312
LOCATION:
SUMMARY:Sunday Morning Service
URL;VALUE=URI:https://www.cloverdalefpc.ca/events/sunday-morning-service/20
 17-09-10
END:VEVENT
END:VCALENDAR
