BEGIN:VCALENDAR
VERSION:2.0
PRODID:icalendar-ruby
CALSCALE:GREGORIAN
METHOD:PUBLISH
BEGIN:VEVENT
DTSTAMP:20260423T000751Z
UID:6-11274411@cloverdalefpc.ca
DTSTART:20170924T173000Z
DTEND:20170924T183000Z
CLASS:PUBLIC
CREATED:20260422T145812
DESCRIPTION:Sunday Morning Service
LAST-MODIFIED:20260422T145812
LOCATION:
SUMMARY:Sunday Morning Service
URL;VALUE=URI:https://www.cloverdalefpc.ca/events/sunday-morning-service/20
 17-09-24
END:VEVENT
END:VCALENDAR
