BEGIN:VCALENDAR
VERSION:2.0
PRODID:icalendar-ruby
CALSCALE:GREGORIAN
METHOD:PUBLISH
BEGIN:VEVENT
DTSTAMP:20260423T081828Z
UID:6-11279704@cloverdalefpc.ca
DTSTART:20171022T173000Z
DTEND:20171022T183000Z
CLASS:PUBLIC
CREATED:20260422T174944
DESCRIPTION:Sunday Morning Service
LAST-MODIFIED:20260422T174944
LOCATION:
SUMMARY:Sunday Morning Service
URL;VALUE=URI:https://www.cloverdalefpc.ca/events/sunday-morning-service/20
 17-10-22
END:VEVENT
END:VCALENDAR
